BEGIN:VCALENDAR
VERSION:2.0
PRODID:-//Royal Hippodrome Theatre - ECPv6.15.20//NONSGML v1.0//EN
CALSCALE:GREGORIAN
METHOD:PUBLISH
X-ORIGINAL-URL:https://royalhippodrome.com
X-WR-CALDESC:Events for Royal Hippodrome Theatre
REFRESH-INTERVAL;VALUE=DURATION:PT1H
X-Robots-Tag:noindex
X-PUBLISHED-TTL:PT1H
BEGIN:VTIMEZONE
TZID:Europe/London
BEGIN:DAYLIGHT
TZOFFSETFROM:+0000
TZOFFSETTO:+0100
TZNAME:BST
DTSTART:20250330T010000
END:DAYLIGHT
BEGIN:STANDARD
TZOFFSETFROM:+0100
TZOFFSETTO:+0000
TZNAME:GMT
DTSTART:20251026T010000
END:STANDARD
BEGIN:DAYLIGHT
TZOFFSETFROM:+0000
TZOFFSETTO:+0100
TZNAME:BST
DTSTART:20260329T010000
END:DAYLIGHT
BEGIN:STANDARD
TZOFFSETFROM:+0100
TZOFFSETTO:+0000
TZNAME:GMT
DTSTART:20261025T010000
END:STANDARD
BEGIN:DAYLIGHT
TZOFFSETFROM:+0000
TZOFFSETTO:+0100
TZNAME:BST
DTSTART:20270328T010000
END:DAYLIGHT
BEGIN:STANDARD
TZOFFSETFROM:+0100
TZOFFSETTO:+0000
TZNAME:GMT
DTSTART:20271031T010000
END:STANDARD
END:VTIMEZONE
BEGIN:VEVENT
DTSTART;TZID=Europe/London:20260501T193000
DTEND;TZID=Europe/London:20260501T193000
DTSTAMP:20260421T043622
CREATED:20250917T090120Z
LAST-MODIFIED:20260419T085122Z
UID:20109-1777663800-1777663800@royalhippodrome.com
SUMMARY:Guns n' Roses Experience
DESCRIPTION:NOBODY DOES IT BETTER – The biggest\, best and most in demand Gn’R tribute in Europe. Not an over-hyped claim\, we prove it time after time. \nIt does not get any closer than this people. \nGn’RE have the only singer able to deliver the exact same unique vocal style and stage show synonymous with Classic Axl Rose. \nGn’RE have the only tribute band guitarist OFFICIALLY SUPPORTED by MARSHALL AMPS\, just like the legend SLASH himself. \nTogether with 4 other Gn’R clones\, these guys deliver a sound and look that is unequalled by any other band. \nSince their very first gig the Guns N’ Roses Experience train has been rolling at an incredible pace\, visiting various Middle Eastern countries\, mainland Europe\, Cyprus\, Ireland and all of the major venues in the UK. \nWith a true Gn’R sound and stage show\, The Guns N’ Roses Experience meticulously recreates every visual detail and every musical note to capture that reckless spirit of the original Guns ‘n Roses\nLegendary live performances. In a bone crushing set all the essentials are covered with breathtaking accuracy including Welcome To The Jungle\, November Rain\, Sweet Child O’ Mine\, Paradise City\, Mr. Brownstone\, You Could Be Mine\, Nightrain\, Rocket Queen\, Knocking on Heaven’s Door and so much more… \nDon’t miss the chance to see the most authentic live Guns ‘N Roses experience touring today. \nOther Bands have tried but fail to deliver a true Gn’R experience. Gn’RE are the only Band to succeed in performing the high Octane Gn’R live show witnessed by millions in the 80’s/90’s to exacting standards. \n  \nAll Tickets £22.50 \n7:30PM – Friday 1 May 2026\nBook Tickets Now!
URL:https://royalhippodrome.com/event/guns-n-roses-experience/
LOCATION:Royal Hippodrome Theatre\, 106-114 Seaside Road\, Eastbourne\, East Sussex\, BN21 3PF\, United Kingdom
CATEGORIES:Featured,Highlight,Music Concert
ATTACH;FMTTYPE=image/png:https://royalhippodrome.com/wp-content/uploads/2025/09/Insta-26-19.png
END:VEVENT
BEGIN:VEVENT
DTSTART;TZID=Europe/London:20260513T201500
DTEND;TZID=Europe/London:20260513T201500
DTSTAMP:20260421T043622
CREATED:20260130T112023Z
LAST-MODIFIED:20260312T104230Z
UID:20376-1778703300-1778703300@royalhippodrome.com
SUMMARY:Let There Be Love
DESCRIPTION:The Royal Hippodrome’s much loved Summer Season makes its welcome return this year with a celebration of music and joy: Let There Be Love. \nJoin us for a sparkling evening of songs\, dance and comedy\, all tied together with a warm\, feel-good theme of love. Back taking the lead is Eastbourne’s favourite host and song-and-dance man\, Grant Martins\, bringing his signature charm\, wit and showbiz style to the stage once again. \nFeaturing dazzling musical theatre numbers\, iconic love songs\, high-energy dance routines and plenty of laughs\, this year’s Summer Season promises a night of pure entertainment for all ages. \nLet the music lift your heart and the magic of live performance make your summer unforgettable. \n  \nFull Price £20 \nConcession £18 \n8:15PM – Wednesday 13 May 2026\nBook Tickets Now!MAY PERFORMANCES\nBook Tickets Now!JUNE PERFORMANCES\nBook Tickets Now!JULY PERFORMANCES\nBook Tickets Now!AUGUST PERFORMANCES\nBook Tickets Now!SEPTEMBER PERFORMANCES\nBook Tickets Now!OCTOBER PERFORMANCES\nBook Tickets Now!
URL:https://royalhippodrome.com/event/let-there-be-love/
LOCATION:Royal Hippodrome Theatre\, 106-114 Seaside Road\, Eastbourne\, East Sussex\, BN21 3PF\, United Kingdom
CATEGORIES:Featured,Highlight,Music Concert,Musical Theatre,Summer
ATTACH;FMTTYPE=image/jpeg:https://royalhippodrome.com/wp-content/uploads/2026/01/let-there-be-love-SQ-scaled.jpg
END:VEVENT
BEGIN:VEVENT
DTSTART;TZID=Europe/London:20260529T180000
DTEND;TZID=Europe/London:20260529T180000
DTSTAMP:20260421T043622
CREATED:20251006T135405Z
LAST-MODIFIED:20260419T085233Z
UID:20145-1780077600-1780077600@royalhippodrome.com
SUMMARY:K-Pop Party
DESCRIPTION:Catch the K-POP ICONS on their WORLD TOUR!  \n🎤 Get ready to sing\, dance\, and party like never before with the K-POP ICONS – the ultimate live concert starring the UK’s first virtual K-Pop band and a sensational live dance crew delivering a world-exclusive experience\, celebrating Korea’s global music phenomenon! \n🔥 Packed with the BIGGEST hits and fan-favourite tracks from Netflix’s smash-hit film K-POP DEMON HUNTERS 🗡️💫 this high-energy\, family-friendly show brings the world of K-Pop to a theatre near you\, led by original K-Pop digital avatars – the ICONS are joined on stage by world-class dancers.  \nKids and adults will fall in love with their chosen ICON and get the chance to help crown their favourite character at this live and interactive performance. \n🎶 Featuring songs from BLACKPINK\, ROSÉ\, BTS\, TWICE\, K/DA\, KATSEYE\, and DEMON HUNTERS groups SAJA BOYS and HUNTR/X. This immersive party is a show for all ages\, whether you’re a hardcore fan\, brand new to the K-Pop wave or just along for your tiny demon hunters\, there’s something for everyone! \n✨ The lights are up. The stage is set. It’s your time to shine like you’re born to be. Make the Honmoon Golden with the K-POP ICONS! 💫 \n  \nStandard Ticket £18 \nFamily Ticket £68 \n  \nDisclaimer: K-POP ICONS® is an original digital K-Pop band and trademark of Red Ents Ltd. Performances may include cover versions of songs originally recorded and/or composed by third parties. K-POP ICONS is not affiliated with\, endorsed by\, or associated with any original artists\, composers\, record labels\, films\, or rights holders. All trademarks\, copyrights\, and other intellectual property remain the property of their respective owners. \n6:00PM – Friday 29 May 2026\nBook Tickets Now!
URL:https://royalhippodrome.com/event/k-pop-party/
LOCATION:Royal Hippodrome Theatre\, 106-114 Seaside Road\, Eastbourne\, East Sussex\, BN21 3PF\, United Kingdom
CATEGORIES:Family Fun,Featured,Great for Kids,Highlight,Music Concert
ATTACH;FMTTYPE=image/jpeg:https://royalhippodrome.com/wp-content/uploads/2025/10/Square.jpg
END:VEVENT
END:VCALENDAR