BEGIN:VCALENDAR
VERSION:2.0
PRODID:-//Royal Hippodrome Theatre - ECPv6.15.20//NONSGML v1.0//EN
CALSCALE:GREGORIAN
METHOD:PUBLISH
X-WR-CALNAME:Royal Hippodrome Theatre
X-ORIGINAL-URL:https://royalhippodrome.com
X-WR-CALDESC:Events for Royal Hippodrome Theatre
REFRESH-INTERVAL;VALUE=DURATION:PT1H
X-Robots-Tag:noindex
X-PUBLISHED-TTL:PT1H
BEGIN:VTIMEZONE
TZID:Europe/London
BEGIN:DAYLIGHT
TZOFFSETFROM:+0000
TZOFFSETTO:+0100
TZNAME:BST
DTSTART:20250330T010000
END:DAYLIGHT
BEGIN:STANDARD
TZOFFSETFROM:+0100
TZOFFSETTO:+0000
TZNAME:GMT
DTSTART:20251026T010000
END:STANDARD
BEGIN:DAYLIGHT
TZOFFSETFROM:+0000
TZOFFSETTO:+0100
TZNAME:BST
DTSTART:20260329T010000
END:DAYLIGHT
BEGIN:STANDARD
TZOFFSETFROM:+0100
TZOFFSETTO:+0000
TZNAME:GMT
DTSTART:20261025T010000
END:STANDARD
BEGIN:DAYLIGHT
TZOFFSETFROM:+0000
TZOFFSETTO:+0100
TZNAME:BST
DTSTART:20270328T010000
END:DAYLIGHT
BEGIN:STANDARD
TZOFFSETFROM:+0100
TZOFFSETTO:+0000
TZNAME:GMT
DTSTART:20271031T010000
END:STANDARD
END:VTIMEZONE
BEGIN:VEVENT
DTSTART;VALUE=DATE:20260718
DTEND;VALUE=DATE:20260719
DTSTAMP:20260425T125152
CREATED:20260420T095034Z
LAST-MODIFIED:20260420T100026Z
UID:20555-1784332800-1784419199@royalhippodrome.com
SUMMARY:Lake Academy of Dance: ICONIC - Moments & People that Refuse to be Forgotten
DESCRIPTION:Get ready for an unforgettable journey through the moments\, music\, and stars that have captured our hearts and stood the test of time! ICONIC is a joyful celebration of the people\, stories\, and memories that continue to shine brightly through the years. \nBrought to life by the talented young dancers of Lake Academy\, this special recital is filled with energy\, imagination\, and lots of sparkle. From legendary icons to famous moments in history and pop culture\, each dance tells a story that audiences of all ages will recognise and love. \n  \nFull Price £16 \nUnder 16 £14.50 \n12:00PM – Saturday 18 July 2026\nBook Tickets Now!4:00PM – Saturday 18 July 2026\nBook Tickets Now!
URL:https://royalhippodrome.com/event/lake-academy-of-dance-iconic-moments-people-that-refuse-to-be-forgotten/
LOCATION:Royal Hippodrome Theatre\, 106-114 Seaside Road\, Eastbourne\, East Sussex\, BN21 3PF\, United Kingdom
CATEGORIES:Community,Dance,Great for Kids,Highlight,Musical Theatre
ATTACH;FMTTYPE=image/png:https://royalhippodrome.com/wp-content/uploads/2026/04/SQ.png
END:VEVENT
END:VCALENDAR