BEGIN:VCALENDAR
VERSION:2.0
PRODID:-//Royal Hippodrome Theatre - ECPv6.15.20//NONSGML v1.0//EN
CALSCALE:GREGORIAN
METHOD:PUBLISH
X-WR-CALNAME:Royal Hippodrome Theatre
X-ORIGINAL-URL:https://royalhippodrome.com
X-WR-CALDESC:Events for Royal Hippodrome Theatre
REFRESH-INTERVAL;VALUE=DURATION:PT1H
X-Robots-Tag:noindex
X-PUBLISHED-TTL:PT1H
BEGIN:VTIMEZONE
TZID:Europe/London
BEGIN:DAYLIGHT
TZOFFSETFROM:+0000
TZOFFSETTO:+0100
TZNAME:BST
DTSTART:20250330T010000
END:DAYLIGHT
BEGIN:STANDARD
TZOFFSETFROM:+0100
TZOFFSETTO:+0000
TZNAME:GMT
DTSTART:20251026T010000
END:STANDARD
BEGIN:DAYLIGHT
TZOFFSETFROM:+0000
TZOFFSETTO:+0100
TZNAME:BST
DTSTART:20260329T010000
END:DAYLIGHT
BEGIN:STANDARD
TZOFFSETFROM:+0100
TZOFFSETTO:+0000
TZNAME:GMT
DTSTART:20261025T010000
END:STANDARD
BEGIN:DAYLIGHT
TZOFFSETFROM:+0000
TZOFFSETTO:+0100
TZNAME:BST
DTSTART:20270328T010000
END:DAYLIGHT
BEGIN:STANDARD
TZOFFSETFROM:+0100
TZOFFSETTO:+0000
TZNAME:GMT
DTSTART:20271031T010000
END:STANDARD
END:VTIMEZONE
BEGIN:VEVENT
DTSTART;TZID=Europe/London:20261001T193000
DTEND;TZID=Europe/London:20261001T193000
DTSTAMP:20260425T155753
CREATED:20260212T104959Z
LAST-MODIFIED:20260212T104959Z
UID:20457-1790883000-1790883000@royalhippodrome.com
SUMMARY:An Evening of Burlesque Cabaret
DESCRIPTION:A glorious Night of Glamour\, Laughter and Feel- Good Fun. \nRoll up\, roll up… the Uk’s longest-running burlesque show is back touring the nation with a thrilling new twist for 2026! \nPresenting An Evening of Burlesque Cabaret – a dazzling celebration of cabaret\, burlesque\, and world-class entertainment. \nThe ultimate variety show blends stylish cabaret\, comedy\, music\, and burlesque into a spectacular extravaganza of glitz and glamour. Featuring dazzling showgirls\, specialty cabaret artists\, and stars of the stage and screen\, this is a night of sophistication and stunning performances. \nExpect fun\, feathers\, and fabulous costumes as we showcase the finest selection of specially artistes\, comedians\, and champagne showgirls. With its blend of cabaret charm and burlesque allure\, this sensational show promises a uniquely seductive experience that redefines variety for the 21st Century. \n  \nBurlesque has enraptured audiences for centuries\, and An Evening of Burlesque Cabaret delivers the very best in contemporary burlesque and cabaret artistry. Expect the unexpected with plenty of glitter\, glamour\, and unforgettable moments. It’s cocktails and cabaret o’clock – a night to remember awaits! \nTickets are on sale now. Don’t miss the magic! \n  \nAge restriction: 18+ \n  \nAll Tickets £32.50 \n7:30PM – Thursday 1 October 2026\nBook Tickets Now!
URL:https://royalhippodrome.com/event/an-evening-of-burlesque-cabaret/
LOCATION:Royal Hippodrome Theatre\, 106-114 Seaside Road\, Eastbourne\, East Sussex\, BN21 3PF\, United Kingdom
CATEGORIES:Adult Only,Dance,Highlight
ATTACH;FMTTYPE=image/jpeg:https://royalhippodrome.com/wp-content/uploads/2026/02/AnEveningOfBurlesqueCabaret-2160x2160-entertainers.jpg
END:VEVENT
BEGIN:VEVENT
DTSTART;TZID=Europe/London:20261002T193000
DTEND;TZID=Europe/London:20261002T193000
DTSTAMP:20260425T155753
CREATED:20260212T110450Z
LAST-MODIFIED:20260212T110450Z
UID:20460-1790969400-1790969400@royalhippodrome.com
SUMMARY:Man in The Mirror - A Tribute to Michael Jackson
DESCRIPTION:Join us for a Thriller of an evening\, as we celebrate the legendary music of the KING OF POP. \nThis is the “Man in the Mirror” – The brand new must-see\, electrifying tribute concert to Michael Jackson.  \nStarring CJ\, one of the world’s greatest Michael Jackson Tribute Artists and supported by a talented cast of performers and musicians who capture the essence of Michael Jackson’s unique style and charisma like no other\, in this scintillating production that will keep you on the edge of your seats. \nFeaturing all his greatest hits you know and love\, including “Thriller\,” “Billie Jean\,” “Beat It\,” “Smooth Criminal\,” and of course\, “Man in the Mirror.” Complete with dazzling choreography\, stunning visual effects\, light show and authentic costumes. This is the show that pays tribute to Jackson’s musical legacy. \nSo\, whether you’re a lifelong fan or experiencing the magic of Michael Jackson for the first time\, get ready as we take you back in time\, for a night like no other. \n  \nAll Tickets £33.50 \n7:30PM – Friday 2 October 2026\nBook Tickets Now!
URL:https://royalhippodrome.com/event/man-in-the-mirror-a-tribute-to-michael-jackson/
LOCATION:Royal Hippodrome Theatre\, 106-114 Seaside Road\, Eastbourne\, East Sussex\, BN21 3PF\, United Kingdom
CATEGORIES:Dance,Highlight,Music Concert
ATTACH;FMTTYPE=image/jpeg:https://royalhippodrome.com/wp-content/uploads/2026/02/Man-In-The-Mirror-Square-entertainers.jpg
END:VEVENT
END:VCALENDAR