BEGIN:VCALENDAR
VERSION:2.0
PRODID:-//Royal Hippodrome Theatre - ECPv6.15.20//NONSGML v1.0//EN
CALSCALE:GREGORIAN
METHOD:PUBLISH
X-ORIGINAL-URL:https://royalhippodrome.com
X-WR-CALDESC:Events for Royal Hippodrome Theatre
REFRESH-INTERVAL;VALUE=DURATION:PT1H
X-Robots-Tag:noindex
X-PUBLISHED-TTL:PT1H
BEGIN:VTIMEZONE
TZID:Europe/London
BEGIN:DAYLIGHT
TZOFFSETFROM:+0000
TZOFFSETTO:+0100
TZNAME:BST
DTSTART:20250330T010000
END:DAYLIGHT
BEGIN:STANDARD
TZOFFSETFROM:+0100
TZOFFSETTO:+0000
TZNAME:GMT
DTSTART:20251026T010000
END:STANDARD
BEGIN:DAYLIGHT
TZOFFSETFROM:+0000
TZOFFSETTO:+0100
TZNAME:BST
DTSTART:20260329T010000
END:DAYLIGHT
BEGIN:STANDARD
TZOFFSETFROM:+0100
TZOFFSETTO:+0000
TZNAME:GMT
DTSTART:20261025T010000
END:STANDARD
BEGIN:DAYLIGHT
TZOFFSETFROM:+0000
TZOFFSETTO:+0100
TZNAME:BST
DTSTART:20270328T010000
END:DAYLIGHT
BEGIN:STANDARD
TZOFFSETFROM:+0100
TZOFFSETTO:+0000
TZNAME:GMT
DTSTART:20271031T010000
END:STANDARD
END:VTIMEZONE
BEGIN:VEVENT
DTSTART;TZID=Europe/London:20261113T193000
DTEND;TZID=Europe/London:20261113T193000
DTSTAMP:20260425T172609
CREATED:20260213T113145Z
LAST-MODIFIED:20260223T103655Z
UID:20475-1794598200-1794598200@royalhippodrome.com
SUMMARY:The Hypnotist & Mind Reader Live
DESCRIPTION:COMEDY HYPNOSIS & MIND READING SHOW \nJoin one of the UK’s top Stage Hypnotists & Mind Readers – Direct from London’s West End\n \nBlending truly jaw-dropping moments\, comedy and music as Mind Hacker Daniel Sinclair takes you on the rollercoaster ride of your minds – leaving you laughing out loud while questioning your own realities. \nSEE the show or be IN the show as volunteers’ imaginations are unlocked\, realities are altered and minds read live on stage. Expect Derren Brown-style mind games\, mind-bending predictions and unforgettable psychological wonder. \nPrepare for the ultimate evening of amazement and laughter! \nAge guidance: 12+ (the majority of the show is family friendly). Hypnosis: Volunteers 18+ can refuse to take part at any time during the performance. \n  \nAll Tickets £20 \n  \n“The next Derren Brown” (Phoenix Arts)\n“Mind Blowing Entertainment” (BBC)\n“Blew me away” (Jimmy Carr) \n7:30PM – Friday 13 November 2026\nBook Tickets Now!
URL:https://royalhippodrome.com/event/the-hypnotist-mind-reader-live/
LOCATION:Royal Hippodrome Theatre\, 106-114 Seaside Road\, Eastbourne\, East Sussex\, BN21 3PF\, United Kingdom
CATEGORIES:Comedy,Highlight
ATTACH;FMTTYPE=image/jpeg:https://royalhippodrome.com/wp-content/uploads/2026/02/2025-New-Show-Poster-scaled.jpg
END:VEVENT
END:VCALENDAR