BEGIN:VCALENDAR
VERSION:2.0
PRODID:-//Royal Hippodrome Theatre - ECPv6.15.20//NONSGML v1.0//EN
CALSCALE:GREGORIAN
METHOD:PUBLISH
X-ORIGINAL-URL:https://royalhippodrome.com
X-WR-CALDESC:Events for Royal Hippodrome Theatre
REFRESH-INTERVAL;VALUE=DURATION:PT1H
X-Robots-Tag:noindex
X-PUBLISHED-TTL:PT1H
BEGIN:VTIMEZONE
TZID:Europe/London
BEGIN:DAYLIGHT
TZOFFSETFROM:+0000
TZOFFSETTO:+0100
TZNAME:BST
DTSTART:20250330T010000
END:DAYLIGHT
BEGIN:STANDARD
TZOFFSETFROM:+0100
TZOFFSETTO:+0000
TZNAME:GMT
DTSTART:20251026T010000
END:STANDARD
BEGIN:DAYLIGHT
TZOFFSETFROM:+0000
TZOFFSETTO:+0100
TZNAME:BST
DTSTART:20260329T010000
END:DAYLIGHT
BEGIN:STANDARD
TZOFFSETFROM:+0100
TZOFFSETTO:+0000
TZNAME:GMT
DTSTART:20261025T010000
END:STANDARD
BEGIN:DAYLIGHT
TZOFFSETFROM:+0000
TZOFFSETTO:+0100
TZNAME:BST
DTSTART:20270328T010000
END:DAYLIGHT
BEGIN:STANDARD
TZOFFSETFROM:+0100
TZOFFSETTO:+0000
TZNAME:GMT
DTSTART:20271031T010000
END:STANDARD
END:VTIMEZONE
BEGIN:VEVENT
DTSTART;TZID=Europe/London:20261007T201500
DTEND;TZID=Europe/London:20261007T201500
DTSTAMP:20260425T145959
CREATED:20260130T155950Z
LAST-MODIFIED:20260130T155950Z
UID:20413-1791404100-1791404100@royalhippodrome.com
SUMMARY:Let There Be Love
DESCRIPTION:The Royal Hippodrome’s much loved Summer Season makes its welcome return this year with a celebration of music and joy: Let There Be Love. \nJoin us for a sparkling evening of songs\, dance and comedy\, all tied together with a warm\, feel-good theme of love. Back taking the lead is Eastbourne’s favourite host and song-and-dance man\, Grant Martins\, bringing his signature charm\, wit and showbiz style to the stage once again. \nFeaturing dazzling musical theatre numbers\, iconic love songs\, high-energy dance routines and plenty of laughs\, this year’s Summer Season promises a night of pure entertainment for all ages. \nLet the music lift your heart and the magic of live performance make your summer unforgettable. \n  \nFull Price £20 \nConcession £18 \n8:15PM – Wednesday 7 October 2026\nBook Tickets Now!OCTOBER PERFORMANCES\nBook Tickets Now!
URL:https://royalhippodrome.com/event/let-there-be-love-17/
LOCATION:Royal Hippodrome Theatre\, 106-114 Seaside Road\, Eastbourne\, East Sussex\, BN21 3PF\, United Kingdom
CATEGORIES:Comedy,Highlight,Music Concert,Musical Theatre,Summer
ATTACH;FMTTYPE=image/jpeg:https://royalhippodrome.com/wp-content/uploads/2026/01/let-there-be-love-SQ-scaled.jpg
END:VEVENT
BEGIN:VEVENT
DTSTART;TZID=Europe/London:20261014T201500
DTEND;TZID=Europe/London:20261014T201500
DTSTAMP:20260425T145959
CREATED:20260130T160136Z
LAST-MODIFIED:20260130T160136Z
UID:20415-1792008900-1792008900@royalhippodrome.com
SUMMARY:Let There Be Love
DESCRIPTION:The Royal Hippodrome’s much loved Summer Season makes its welcome return this year with a celebration of music and joy: Let There Be Love. \nJoin us for a sparkling evening of songs\, dance and comedy\, all tied together with a warm\, feel-good theme of love. Back taking the lead is Eastbourne’s favourite host and song-and-dance man\, Grant Martins\, bringing his signature charm\, wit and showbiz style to the stage once again. \nFeaturing dazzling musical theatre numbers\, iconic love songs\, high-energy dance routines and plenty of laughs\, this year’s Summer Season promises a night of pure entertainment for all ages. \nLet the music lift your heart and the magic of live performance make your summer unforgettable. \n  \nFull Price £20 \nConcession £18 \n8:15PM – Wednesday 14 October 2026\nBook Tickets Now!
URL:https://royalhippodrome.com/event/let-there-be-love-18/
LOCATION:Royal Hippodrome Theatre\, 106-114 Seaside Road\, Eastbourne\, East Sussex\, BN21 3PF\, United Kingdom
CATEGORIES:Comedy,Highlight,Music Concert,Musical Theatre,Summer
ATTACH;FMTTYPE=image/jpeg:https://royalhippodrome.com/wp-content/uploads/2026/01/let-there-be-love-SQ-scaled.jpg
END:VEVENT
BEGIN:VEVENT
DTSTART;TZID=Europe/London:20261022T200000
DTEND;TZID=Europe/London:20261022T200000
DTSTAMP:20260425T145959
CREATED:20251023T140824Z
LAST-MODIFIED:20251023T140824Z
UID:20221-1792699200-1792699200@royalhippodrome.com
SUMMARY:Screaming Blue Murder Comedy Club
DESCRIPTION:The Screaming Blue Murder Comedy Club\, now into its sixth year at The Royal Hippodrome Theatre\, has become a regular highlight in the Theatre’s programme with audiences returning again and again for a brilliant evening of entertainment. \nScreaming Blue Murder Comedy Clubs have been around since 1988 – in that time they have been proud to present performers such as Jack Dee\, Eddie Izzard\, Jo Brand\, Bill Bailey\, and Alan Davies\, now all TV stars in their own right. \nEvery other month see a four-strong line up of comedy’s rising stars hosted by your resident compere Windsor – back by popular demand! \n  \nAll Tickets £12 \nFor Group Booking offers please contact the Box Office directly 01323 802020 boxoffice@royalhippodrome.com \n8:00PM – Thursday 22 October 2026\nBook Tickets Now!
URL:https://royalhippodrome.com/event/screaming-blue-murder-comedy-club-5/
LOCATION:Royal Hippodrome Theatre\, 106-114 Seaside Road\, Eastbourne\, East Sussex\, BN21 3PF\, United Kingdom
CATEGORIES:Comedy,Highlight
ATTACH;FMTTYPE=image/jpeg:https://royalhippodrome.com/wp-content/uploads/2021/10/Screaming-Blue-Muder-NEW-SQ-scaled.jpg
END:VEVENT
END:VCALENDAR