BEGIN:VCALENDAR
VERSION:2.0
PRODID:-//Royal Hippodrome Theatre - ECPv6.15.20//NONSGML v1.0//EN
CALSCALE:GREGORIAN
METHOD:PUBLISH
X-WR-CALNAME:Royal Hippodrome Theatre
X-ORIGINAL-URL:https://royalhippodrome.com
X-WR-CALDESC:Events for Royal Hippodrome Theatre
REFRESH-INTERVAL;VALUE=DURATION:PT1H
X-Robots-Tag:noindex
X-PUBLISHED-TTL:PT1H
BEGIN:VTIMEZONE
TZID:Europe/London
BEGIN:DAYLIGHT
TZOFFSETFROM:+0000
TZOFFSETTO:+0100
TZNAME:BST
DTSTART:20250330T010000
END:DAYLIGHT
BEGIN:STANDARD
TZOFFSETFROM:+0100
TZOFFSETTO:+0000
TZNAME:GMT
DTSTART:20251026T010000
END:STANDARD
BEGIN:DAYLIGHT
TZOFFSETFROM:+0000
TZOFFSETTO:+0100
TZNAME:BST
DTSTART:20260329T010000
END:DAYLIGHT
BEGIN:STANDARD
TZOFFSETFROM:+0100
TZOFFSETTO:+0000
TZNAME:GMT
DTSTART:20261025T010000
END:STANDARD
BEGIN:DAYLIGHT
TZOFFSETFROM:+0000
TZOFFSETTO:+0100
TZNAME:BST
DTSTART:20270328T010000
END:DAYLIGHT
BEGIN:STANDARD
TZOFFSETFROM:+0100
TZOFFSETTO:+0000
TZNAME:GMT
DTSTART:20271031T010000
END:STANDARD
END:VTIMEZONE
BEGIN:VEVENT
DTSTART;TZID=Europe/London:20261015T193000
DTEND;TZID=Europe/London:20261015T193000
DTSTAMP:20260425T163019
CREATED:20250611T090048Z
LAST-MODIFIED:20260107T094706Z
UID:19946-1792092600-1792092600@royalhippodrome.com
SUMMARY:Forbidden Nights
DESCRIPTION:Brace yourself for something truly spectacular… Forbidden Nights is here\, celebrating over a decade of muscles\, mayhem and over 11\,000 shirt rips! \n“Truly Jaw-Dropping” – Metro \nReady for a new fantasy? Unleash your inhibitions as Forbidden Nights takes you to a whole new level\, delivering more than your wildest dreams. \nWhether you’re just looking for an excuse to let loose\, celebrating a birthday or planning a sensational hen party\, look no further. \n “Will Leave You Breathless” – Loveit Magazine \nThis show is not only hot\, it’s hilarious. This is your sign from the universe\, urging you to create unforgettable memories and finally have that incredible night out you’ve been putting off for too long.  This isn’t just a typical show; get ready to dive right in and interact like never before.  Sing along from your seat or go all out and book a stage pass for the ultimate experience.  Each ticket includes a complimentary meet-and-greet and cast photo opportunity. \nFor the best seats in the house\, book now and find out why Forbidden Nights have performed to over 300\,000 people. So\, what are you waiting for? \nStop looking\, start booking!  \nHangover: optional\, a night to remember: guaranteed \n  \nPremium (Front 5 rows) £31.50 \nStandard £28.00 \n7:00PM – Thursday 15 October 2026\nBook Tickets Now!
URL:https://royalhippodrome.com/event/forbidden-nights/
LOCATION:Royal Hippodrome Theatre\, 106-114 Seaside Road\, Eastbourne\, East Sussex\, BN21 3PF\, United Kingdom
CATEGORIES:Adult Only,Highlight
ATTACH;FMTTYPE=image/png:https://royalhippodrome.com/wp-content/uploads/2025/06/1080X1080.png
END:VEVENT
END:VCALENDAR