BEGIN:VCALENDAR
VERSION:2.0
PRODID:-//Royal Hippodrome Theatre - ECPv6.15.20//NONSGML v1.0//EN
CALSCALE:GREGORIAN
METHOD:PUBLISH
X-ORIGINAL-URL:https://royalhippodrome.com
X-WR-CALDESC:Events for Royal Hippodrome Theatre
REFRESH-INTERVAL;VALUE=DURATION:PT1H
X-Robots-Tag:noindex
X-PUBLISHED-TTL:PT1H
BEGIN:VTIMEZONE
TZID:Europe/London
BEGIN:DAYLIGHT
TZOFFSETFROM:+0000
TZOFFSETTO:+0100
TZNAME:BST
DTSTART:20250330T010000
END:DAYLIGHT
BEGIN:STANDARD
TZOFFSETFROM:+0100
TZOFFSETTO:+0000
TZNAME:GMT
DTSTART:20251026T010000
END:STANDARD
BEGIN:DAYLIGHT
TZOFFSETFROM:+0000
TZOFFSETTO:+0100
TZNAME:BST
DTSTART:20260329T010000
END:DAYLIGHT
BEGIN:STANDARD
TZOFFSETFROM:+0100
TZOFFSETTO:+0000
TZNAME:GMT
DTSTART:20261025T010000
END:STANDARD
BEGIN:DAYLIGHT
TZOFFSETFROM:+0000
TZOFFSETTO:+0100
TZNAME:BST
DTSTART:20270328T010000
END:DAYLIGHT
BEGIN:STANDARD
TZOFFSETFROM:+0100
TZOFFSETTO:+0000
TZNAME:GMT
DTSTART:20271031T010000
END:STANDARD
END:VTIMEZONE
BEGIN:VEVENT
DTSTART;TZID=Europe/London:20260814T203000
DTEND;TZID=Europe/London:20260814T203000
DTSTAMP:20260425T140000
CREATED:20260202T150126Z
LAST-MODIFIED:20260202T150126Z
UID:20433-1786739400-1786739400@royalhippodrome.com
SUMMARY:Looking For Ghosts
DESCRIPTION:Looking for ghosts at The Royal Hippodrome Theatre \nMysterious footsteps coming from the stage\, A black mass in the stalls\, Doors which open and close as somebody unseen walks through and the piano music caught on a recording while no pianos were being played are just some of the ghostly accounts of this spectacular Victorian theatre. \nThe Royal Hippodrome Theatre opened on Thursday 2 August 1883. At the time Eastbourne was emerging as a highly fashionable destination\, encouraged by regular visits from the Prince of Wales. Its original name “Theatre Royal and Opera House” survived for about 20 years but from around 1904 it became The Royal Hippodrome Theatre. The reason for the name change is unclear\, but it seems to mirror a change in style and use. \nWe will be in search of confirmation of the ghosts that haunt The Royal Hippodrome. In small teams the mission will be to collect evidence using traditional methods such as séance\, glass moving etc right up to the latest ghost equipment using infrared\, electro magnetics and so on. No experiment is compulsory as we do our best to identify who the ghosts of The Royal Hippodrome are and why they haunt this location. \nThe cost for the night is £55 per head\, 8.20pm for an 8.30pm start. The night will finish by 1.30am\, by which time you will have had the chance to experience what it is like to be a paranormal investigator\, and had the opportunity to try a mixture of traditional techniques as well as modern technology to try to decide for yourselves – WHO HAUNTS The Royal Hippodrome? \n  \nAll Tickets £55 \n\n\n\n\n\n\n\n\n\n\n\n\n\n8:30PM – Friday 14 August 2026\nBook Tickets Now!
URL:https://royalhippodrome.com/event/looking-for-ghosts/
LOCATION:Royal Hippodrome Theatre\, 106-114 Seaside Road\, Eastbourne\, East Sussex\, BN21 3PF\, United Kingdom
CATEGORIES:Adult Only,Ghost Walk
ATTACH;FMTTYPE=image/jpeg:https://royalhippodrome.com/wp-content/uploads/2025/10/LFG-SQ-scaled.jpg
END:VEVENT
END:VCALENDAR