BEGIN:VCALENDAR
VERSION:2.0
PRODID:-//Royal Hippodrome Theatre - ECPv6.15.20//NONSGML v1.0//EN
CALSCALE:GREGORIAN
METHOD:PUBLISH
X-WR-CALNAME:Royal Hippodrome Theatre
X-ORIGINAL-URL:https://royalhippodrome.com
X-WR-CALDESC:Events for Royal Hippodrome Theatre
REFRESH-INTERVAL;VALUE=DURATION:PT1H
X-Robots-Tag:noindex
X-PUBLISHED-TTL:PT1H
BEGIN:VTIMEZONE
TZID:Europe/London
BEGIN:DAYLIGHT
TZOFFSETFROM:+0000
TZOFFSETTO:+0100
TZNAME:BST
DTSTART:20290325T010000
END:DAYLIGHT
BEGIN:STANDARD
TZOFFSETFROM:+0100
TZOFFSETTO:+0000
TZNAME:GMT
DTSTART:20291028T010000
END:STANDARD
BEGIN:DAYLIGHT
TZOFFSETFROM:+0000
TZOFFSETTO:+0100
TZNAME:BST
DTSTART:20300331T010000
END:DAYLIGHT
BEGIN:STANDARD
TZOFFSETFROM:+0100
TZOFFSETTO:+0000
TZNAME:GMT
DTSTART:20301027T010000
END:STANDARD
BEGIN:DAYLIGHT
TZOFFSETFROM:+0000
TZOFFSETTO:+0100
TZNAME:BST
DTSTART:20310330T010000
END:DAYLIGHT
BEGIN:STANDARD
TZOFFSETFROM:+0100
TZOFFSETTO:+0000
TZNAME:GMT
DTSTART:20311026T010000
END:STANDARD
END:VTIMEZONE
BEGIN:VEVENT
DTSTART;VALUE=DATE:20300101
DTEND;VALUE=DATE:20300102
DTSTAMP:20260425T201039
CREATED:20220511T092542Z
LAST-MODIFIED:20250329T200438Z
UID:6174-1893456000-1893542399@royalhippodrome.com
SUMMARY:Sponsor a Seat
DESCRIPTION:Sponsoring a seat here at The Royal Hippodrome Theatre is a wonderful way to celebrate a special occasion\, to dedicate in memory of a loved one and to mark those precious memories we have together. It is also a brilliant way to show your support for our work on stage and in the local community and to become part of both the rich history and vibrant future of The Royal Hippodrome Theatre. The money raised from seat sponsorship goes straight to The Royal Hippodrome Theatre Friends charity and will be put towards renovating the seating in the auditorium. \nIn recognition of your donation\, a plaque engraved with your name or dedication will appear on your chosen seat(s). Every seat sponsorship will remain in place for a minimum of 10 years from purchase.\nA few things to consider: \n\nThe donation is a one-off cost of £200 per seat sponsored.\nIf you are an individual or business\, you need to supply the exact words you require on the plaque – Max. 30 characters.\nSeat sponsorship is for a ten-year period from March 2023. Any seats sponsored after this date the ten-year period will start from the date of purchase. After this period\, the seat sponsorship can be renewed if required (at a further cost).\nSponsoring a seat doesn’t guarantee that your chosen seat will be exclusively available to you when purchasing a ticket for a show.\nPlease note that a few seats may be removed or blocked off for some shows\, depending on seat configuration.\nAny further queries about Sponsor A Seat please email boxoffice@royalhippodrome.com or call 01323 802020.\n\nSPONSOR A SEAT\nCLICK HERE TO SPONSOR
URL:https://royalhippodrome.com/event/sponsor-a-seat/
LOCATION:Royal Hippodrome Theatre\, 106-114 Seaside Road\, Eastbourne\, East Sussex\, BN21 3PF\, United Kingdom
CATEGORIES:Highlight
ATTACH;FMTTYPE=image/jpeg:https://royalhippodrome.com/wp-content/uploads/2022/05/Sponsor-a-Seat-SQ.jpg
END:VEVENT
END:VCALENDAR