BEGIN:VCALENDAR
VERSION:2.0
PRODID:-//Royal Hippodrome Theatre - ECPv6.15.20//NONSGML v1.0//EN
CALSCALE:GREGORIAN
METHOD:PUBLISH
X-WR-CALNAME:Royal Hippodrome Theatre
X-ORIGINAL-URL:https://royalhippodrome.com
X-WR-CALDESC:Events for Royal Hippodrome Theatre
REFRESH-INTERVAL;VALUE=DURATION:PT1H
X-Robots-Tag:noindex
X-PUBLISHED-TTL:PT1H
BEGIN:VTIMEZONE
TZID:Europe/London
BEGIN:DAYLIGHT
TZOFFSETFROM:+0000
TZOFFSETTO:+0100
TZNAME:BST
DTSTART:20260329T010000
END:DAYLIGHT
BEGIN:STANDARD
TZOFFSETFROM:+0100
TZOFFSETTO:+0000
TZNAME:GMT
DTSTART:20261025T010000
END:STANDARD
BEGIN:DAYLIGHT
TZOFFSETFROM:+0000
TZOFFSETTO:+0100
TZNAME:BST
DTSTART:20270328T010000
END:DAYLIGHT
BEGIN:STANDARD
TZOFFSETFROM:+0100
TZOFFSETTO:+0000
TZNAME:GMT
DTSTART:20271031T010000
END:STANDARD
BEGIN:DAYLIGHT
TZOFFSETFROM:+0000
TZOFFSETTO:+0100
TZNAME:BST
DTSTART:20280326T010000
END:DAYLIGHT
BEGIN:STANDARD
TZOFFSETFROM:+0100
TZOFFSETTO:+0000
TZNAME:GMT
DTSTART:20281029T010000
END:STANDARD
END:VTIMEZONE
BEGIN:VEVENT
DTSTART;VALUE=DATE:20270326
DTEND;VALUE=DATE:20270331
DTSTAMP:20260425T172327
CREATED:20260401T154130Z
LAST-MODIFIED:20260410T092921Z
UID:20538-1806019200-1806451199@royalhippodrome.com
SUMMARY:Easter Pantomime: The Little Mermaid
DESCRIPTION:Dive under the sea next Easter with our spectacular family adventure\, The Little Mermaid! \nThis show promises to make a real splash with comedy aplenty\, dazzling scenery\, shimmering costumes and plenty for you all to boo and hiss at! \nFollow Coral as she dreams of life above the waves and falls for her dashing Prince. But her journey won’t be plain sailing… with the wicked sea witch Octavia ready to cause a tidal wave of trouble! \nWe also have a special night for all the bigger boys and girls with our STRICTLY 18YRS+ performance! Expect a wickedly naughty twist on our fin-tastic favourite\, packed with outrageous jokes\, unapologetic innuendo\, and humour that’s definitely not for the faint-hearted. If you’re likely to be offended\, this definitely isn’t the show for you… so book fast before it’s gone! \nSo don’t flounder – make your Easter egg-stra special with us at the Royal Hippodrome Theatre. \nIt’s shore to be o-fish-ally brilliant! \n  \nOPENING DAY (Fri 26th) \nAll Tickets £12 \n  \nADULT NIGHT 18+ (Sat 27th 8pm) \nAll Tickets £20 \n  \nRELAXED PERFORMANCE (Tue 30th 11am) \nFull Price £15.50\, Concession £13.50 \nElements of the production are adapted to reduce anxiety or stress. This performance welcomes those who would like to see the show in a less formal atmosphere\, including (but not limited to) those who experience sensory overload\, people with a learning disability and parents with very young children. \n  \nALL OTHER PERFORMANCES \nFull Price £17.50\, Concession £15.50 \n2:30PM – Friday 26 March 2027\nBook Tickets Now!6:00PM – Friday 26 March 2027\nBook Tickets Now!2:30PM – Saturday 27 March 2027\nBook Tickets Now!ADULT NIGHT 18+\n8:00PM – Saturday 27 March 2027\nBook Tickets Now!4:00PM – Sunday 28 March 2027\nBook Tickets Now!11:00AM – Monday 29 March 2027\nBook Tickets Now!2:30PM – Monday 29 March 2027\nBook Tickets Now!RELAXED PERFORMANCE\n11:00AM – Tuesday 30 March 2027\nBook Tickets Now!2:30PM – Tuesday 30 March 2027\nBook Tickets Now!
URL:https://royalhippodrome.com/event/easter-pantomime-the-little-mermaid/
LOCATION:Royal Hippodrome Theatre\, 106-114 Seaside Road\, Eastbourne\, East Sussex\, BN21 3PF\, United Kingdom
CATEGORIES:Comedy,Family Fun,Great for Kids,Highlight
ATTACH;FMTTYPE=image/jpeg:https://royalhippodrome.com/wp-content/uploads/2026/04/WEBSITE-SQ-Mermaid-scaled.jpg
END:VEVENT
END:VCALENDAR